BEGIN:VCALENDAR
VERSION:2.0
PRODID:-//ChamberMaster//Event Calendar 2.0//EN
METHOD:PUBLISH
X-PUBLISHED-TTL:P3D
REFRESH-INTERVAL:P3D
CALSCALE:GREGORIAN
BEGIN:VEVENT
DTSTART:20210711T170000Z
DTEND:20210711T220000Z
X-MICROSOFT-CDO-ALLDAYEVENT:FALSE
SUMMARY:16th Annual Sawyer Motors Car Show
DESCRIPTION:Get already for some rockin' and rollin' at the 16th Anniversary of\n\nTHE BEST LITTLE CAR SHOW IN THE NORTHEAST \nOn Sunday\, July 11th\, once again our village streets of Main & Partition are shut down to traffic and filled with over 500 cars that sure do bring back the memories. Non-stop live entertainment and a cause that hit home for all of us\, brought over 10\,000 people to Saugerties in past years. Spectator admission is always free to the public. All of the village shops and restaurants are open for business. Fifty trophies are awarded to the best of the best! It's a fun day for kids of all ages. Hope to see you there.\n\n7 LIVE BANDS - ONE ON EVERY CORNER
X-ALT-DESC;FMTTYPE=text/html:<p align="center"><font face="Trebuchet MS\, Times\, serif">Get already for some rockin&#39\; and rollin&#39\; at the 16th Anniversary of</font></p>\n\n<p align="center"><font face="Trebuchet MS\, Times\, serif"><strong><font color="#000099" size="5">THE BEST LITTLE CAR SHOW IN THE NORTHEAST</font></strong>&nbsp\;</font></p>\n<font face="Trebuchet MS\, Times\, serif">On Sunday\, July 11th\, once again our village streets of Main &amp\; Partition are shut down to traffic and filled with over 500 cars that sure do bring back the memories. Non-stop live entertainment and a cause that hit home for all of us\, brought over 10\,000 people to Saugerties in past years.&nbsp\;Spectator admission is always free to the public. All of the village shops and restaurants&nbsp\;are open for business. Fifty trophies are&nbsp\;awarded to the best of the best!&nbsp\;It&#39\;s a fun day for kids of all ages. Hope to see you there.</font>\n\n<p align="center"><font color="#000099" face="Avenir Next Bold" size="6"><b style="">7 LIVE BANDS - ONE ON EVERY CORNER</b></font></p>\n
LOCATION:Village streets of Main & Partition
UID:e.2300.9574
SEQUENCE:3
DTSTAMP:20260421T113057Z
URL:https://business.ulsterchamber.org/events/details/16th-annual-sawyer-motors-car-show-9574
END:VEVENT

END:VCALENDAR
