BEGIN:VCALENDAR
VERSION:2.0
PRODID:-//ChamberMaster//Event Calendar 2.0//EN
METHOD:PUBLISH
X-PUBLISHED-TTL:P3D
REFRESH-INTERVAL:P3D
CALSCALE:GREGORIAN
BEGIN:VEVENT
DTSTART:20210828T003000Z
DTEND:20210829T020000Z
X-MICROSOFT-CDO-ALLDAYEVENT:FALSE
SUMMARY:12th Annual Phoenicia International Festival of the Voice
DESCRIPTION:The Phoenicia International Festival of the Voice is proud to announce their innovative\, collaborative 2021 season!\n\nThe festival will return this year in Phoenicia\, NY outdoors!\n\nThis year\, The Phoenicia International Festival of the Voice welcomes New York City Opera and Teatro Grattacielo to the Catskills\, offering audiences a once-in-a-lifetime opportunity to experience these unique\, immersive productions\, adapted for prescribed Covid-19 protocols.\n\nThis will be a historic collaboration as 3 diverse companies come together to keep live performance alive\, give work to artists\, many of whom have been out of work for more than a year\, and to bring fresh\, innovative performances that will thrill audiences. Each company sees this effort as an act of resilience in troubled times. While each company features international artists of the highest quality\, it still comes down to a community effort and the 189 volunteers of the Phoenicia Festival of the Voice and local community support that allows us to put this incredible festival together!
X-ALT-DESC;FMTTYPE=text/html:<div class="sqs-block html-block sqs-block-html" data-block-type="2" id="block-yui_3_17_2_1_1624981064380_30568">\n<div class="sqs-block-content">\n<h2 style="text-align:center\;white-space:pre-wrap\;">The Phoenicia International Festival of the Voice is proud to announce their innovative\, collaborative 2021 season!</h2>\n\n<h2 style="text-align:center\;white-space:pre-wrap\;">The festival will return this year in Phoenicia\, NY outdoors!</h2>\n\n<p style="white-space:pre-wrap\;">This year\, The Phoenicia International Festival of the Voice welcomes New York City Opera and Teatro Grattacielo to the Catskills\, offering audiences a once-in-a-lifetime opportunity to experience these unique\, immersive productions\, adapted for prescribed Covid-19 protocols.</p>\n\n<p style="white-space:pre-wrap\;">This will be a historic collaboration as 3 diverse companies come together to keep live performance alive\, give work to artists\, many of whom have been out of work for more than a year\, and to bring fresh\, innovative performances that will thrill audiences. Each company sees this effort as an act of resilience in troubled times. While each company features international artists of the highest quality\, it still comes down to a community effort and the 189 volunteers of the Phoenicia Festival of the Voice and local community support that allows us to put this incredible festival together!</p>\n</div>\n</div>\n
LOCATION:Directions & Parking
UID:e.2300.9590
SEQUENCE:3
DTSTAMP:20260421T095253Z
URL:https://business.ulsterchamber.org/events/details/12th-annual-phoenicia-international-festival-of-the-voice-9590
END:VEVENT

END:VCALENDAR
