BEGIN:VCALENDAR
VERSION:2.0
PRODID:-//ChamberMaster//Event Calendar 2.0//EN
METHOD:PUBLISH
X-PUBLISHED-TTL:P3D
REFRESH-INTERVAL:P3D
CALSCALE:GREGORIAN
BEGIN:VEVENT
DTSTART:20210713T160000Z
DTEND:20210713T170000Z
X-MICROSOFT-CDO-ALLDAYEVENT:FALSE
SUMMARY:10 Warning Signs of Alzheimer's
DESCRIPTION:Alzheimer's and other dementias cause memory\, thinking and behavior problems that interfere with daily living. Join us to learn how to recognize common signs of the disease\; how to approach someone about memory concerns\; the importance of early detection and benefits of a diagnosis\; possible tests and assessments for the diagnostic process\, and Alzheimer's Association resources.
X-ALT-DESC;FMTTYPE=text/html:Alzheimer&#39\;s and other dementias cause memory\, thinking and behavior problems that interfere with daily living. Join us to learn how to recognize common signs of the disease\; how to approach someone about memory concerns\; the importance of early detection and benefits of a diagnosis\; possible tests and assessments for the diagnostic process\, and Alzheimer&#39\;s Association resources.
LOCATION:Remote
UID:e.2300.9538
SEQUENCE:3
DTSTAMP:20260421T113059Z
URL:https://business.ulsterchamber.org/events/details/10-warning-signs-of-alzheimer-s-9538
END:VEVENT

END:VCALENDAR
