BEGIN:VCALENDAR
VERSION:2.0
PRODID:-//ChamberMaster//Event Calendar 2.0//EN
METHOD:PUBLISH
X-PUBLISHED-TTL:P3D
REFRESH-INTERVAL:P3D
CALSCALE:GREGORIAN
BEGIN:VEVENT
DTSTART:20240220T230000Z
DTEND:20240221T020000Z
X-MICROSOFT-CDO-ALLDAYEVENT:FALSE
SUMMARY:WEDC: Entrepreneur Growth Lab (Mid-Hudson)
DESCRIPTION:Who is the EGL designed for? The EGL is designed for those who have a business idea\, some experience in the field\, or have started a business.  \n\nWhat can I expect at the end of the EGL? The program culminates in a pitch contest with cash prizes!\n\nWhat will be covered in the EGL? WEDC's expert trainers will assist you with navigating all aspects of starting\, running and sustaining your business.  We will guide you through creating your road map for success using the Business Model Canvas.  \n\nHere are some key topics that we will discuss:\n\n\n\n\n\n\n\n\n\n\n	\n	Business Model Canvas: Conduct customer discovery and ensure your product fits the market needs\n	\n	\n	Crafting Success: Create a customer profile and conduct competitive analysis for unstoppable growth\n	\n	\n	Digital Dominance: Learn the latest digital marketing and social media strategies\n	\n	\n	Pitch Perfect: Craft your executive summary and master the art of impactful pitches\n	\n	\n	Business Basics: Explore forms of business ownership and crafting your operating budget\n	\n	\n	Financial Management Skills: Master record-keeping and financial statements\n	\n\n\nEmbark on the EGL\, where you'll master strategy\, marketing and finance skills for real-world success.  Ignite your confidence and stay at the forefront of industry trends.  All with a chance to compete for cash prizes in a pitch contest.  Don't just dream about business success   ignite it!\n\nWhat is the Business Model Canvas? The Business Model Canvas (BMC) is a one-page business tool used to visualize all the building blocks when you want to start or grow a business\, including customers\, route to market\, value proposition and finance.
X-ALT-DESC;FMTTYPE=text/html:<p><span style="color:rgb(196\, 31\, 74)\; font-size:16px"><strong>Who is the EGL designed for?</strong></span><span style="font-size:16px">&nbsp\;</span><span style="color:rgb(77\, 77\, 78)\; font-size:16px">The EGL is designed for those who have a business idea\, some experience in the field\, or have started a business.&nbsp\;&nbsp\;</span></p>\n\n<p><span style="font-size:16px"><span style="color:rgb(0\, 128\, 0)"><strong>What can I expect at the end of the EGL?</strong>&nbsp\;<span style="color:rgb(77\, 77\, 78)">The program culminates in a pitch contest with cash prizes!</span></span></span></p>\n\n<p><span style="font-size:16px"><span style="color:rgb(196\, 31\, 74)"><strong>What will be covered in the EGL?</strong></span>&nbsp\;<span style="color:rgb(77\, 77\, 78)">WEDC&rsquo\;s expert trainers will assist you with navigating all aspects of starting\, running and sustaining your business.&nbsp\; We will guide you through creating your road map for success using the Business Model Canvas.&nbsp\;&nbsp\;</span></span></p>\n\n<p><span style="font-size:16px"><span style="color:rgb(77\, 77\, 78)">Here are some key topics that we will discuss:</span></span></p>\n\n<div>\n<div>\n<div>\n<div>\n<div>\n<div>\n<div>\n<div>\n<ul>\n	<li>\n	<p><span style="font-size:16px"><span style="color:rgb(77\, 77\, 78)"><strong>Business Model Canvas:&nbsp\;</strong>Conduct customer discovery and ensure your product fits the market needs</span></span></p>\n	</li>\n	<li>\n	<p><span style="font-size:16px"><span style="color:rgb(77\, 77\, 78)"><strong>Crafting Success:&nbsp\;</strong>Create a customer profile and conduct competitive analysis for unstoppable growth</span></span></p>\n	</li>\n	<li>\n	<p><span style="font-size:16px"><span style="color:rgb(77\, 77\, 78)"><strong>Digital Dominance:&nbsp\;</strong>Learn the latest digital marketing and social media strategies</span></span></p>\n	</li>\n	<li>\n	<p><span style="font-size:16px"><span style="color:rgb(77\, 77\, 78)"><strong>Pitch Perfect:&nbsp\;</strong>Craft your executive summary and master the art of impactful pitches</span></span></p>\n	</li>\n	<li>\n	<p><span style="font-size:16px"><span style="color:rgb(77\, 77\, 78)"><strong>Business Basics:&nbsp\;</strong>Explore forms of business ownership and crafting your operating budget</span></span></p>\n	</li>\n	<li>\n	<p><span style="font-size:16px"><span style="color:rgb(77\, 77\, 78)"><strong>Financial Management Skills:&nbsp\;</strong>Master record-keeping and financial statements</span></span></p>\n	</li>\n</ul>\n\n<p><span style="font-size:16px"><span style="color:rgb(77\, 77\, 78)">Embark on the EGL\, where you&rsquo\;ll master strategy\, marketing and finance skills for real-world success.&nbsp\; Ignite your confidence and stay at the forefront of industry trends.&nbsp\; All with a chance to compete for cash prizes in a pitch contest.&nbsp\; Don&rsquo\;t just dream about business success &ndash\; ignite it!</span></span></p>\n\n<p><span style="font-size:16px"><strong><span style="color:rgb(196\, 31\, 74)">What is the Business Model Canvas?</span></strong>&nbsp\;<span style="color:rgb(77\, 77\, 78)">The Business Model Canvas (BMC) is a one-page business tool used to visualize all the building blocks when you want to start or grow a business\, including customers\, route to market\, value proposition and finance.</span></span></p>\n</div>\n</div>\n</div>\n</div>\n</div>\n</div>\n</div>\n</div>\n
LOCATION:The majority of the sessions are in-person with a few remote sessions on Zoom. The in-person sessions will be held at the Dutchess Community College. Location: Dutchess Community College 53 Pendell Road Poughkeepsie\, NY 12601
UID:e.2300.10443
SEQUENCE:3
DTSTAMP:20260419T202037Z
URL:http://business.ulsterchamber.org/events/details/wedc-entrepreneur-growth-lab-mid-hudson-10443
END:VEVENT

END:VCALENDAR
