BEGIN:VCALENDAR
VERSION:2.0
PRODID:-//ChamberMaster//Event Calendar 2.0//EN
METHOD:PUBLISH
X-PUBLISHED-TTL:P3D
REFRESH-INTERVAL:P3D
CALSCALE:GREGORIAN
BEGIN:VEVENT
DTSTART;VALUE=DATE:20200824
DTEND;VALUE=DATE:20200825
TRANSP:TRANSPARENT
X-MICROSOFT-CDO-ALLDAYEVENT:TRUE
SUMMARY:SUNY Ulster Career Development
DESCRIPTION:There are six online networking and career development courses to prepare new graduates\, people re-entering the workforce and career changers for the professional work environment. From resume writing and interviewing to networking and managing personal finances\, these courses teach professionals the life skills that a traditional education may have left behind.\n\n\n\nEMSI\, a labor market analytics company\, looked at all job postings in Ulster County earlier this year and gathered the top (hot/resilient) skills across 20 occupations with the most job posting growth. The top five on this list were customer service\, communications\, management\, problem solving\, and written and verbal communications.\n\n\n\nThis course may be be started on any date and time.
X-ALT-DESC;FMTTYPE=text/html:There are six online networking and career development courses to prepare new graduates\, people re-entering the workforce and career changers for the professional work environment. From resume writing and interviewing to networking and managing personal finances\, these courses teach professionals the life skills that a traditional education may have left behind.<br />\n<br />\nEMSI\, a labor market analytics company\, looked at all job postings in Ulster County earlier this year and gathered the top (hot/resilient) skills across 20 occupations with the most job posting growth. The top five on this list were customer service\, communications\, management\, problem solving\, and written and verbal communications.<br />\n<br />\nThis course may be be started on any date and time.
LOCATION:Online
UID:e.2300.8837
SEQUENCE:3
DTSTAMP:20260421T093320Z
URL:http://business.ulsterchamber.org/events/details/suny-ulster-career-development-8837
END:VEVENT

END:VCALENDAR
