BEGIN:VCALENDAR
VERSION:2.0
PRODID:-//ChamberMaster//Event Calendar 2.0//EN
METHOD:PUBLISH
X-PUBLISHED-TTL:P3D
REFRESH-INTERVAL:P3D
CALSCALE:GREGORIAN
BEGIN:VEVENT
DTSTART:20201004T153000Z
DTEND:20201004T190000Z
X-MICROSOFT-CDO-ALLDAYEVENT:FALSE
SUMMARY:SPCA Doggie Dash 2020
DESCRIPTION:The Ulster County SPCA's annual Doggie Dash is a 5k run/ 3k walk with your four-legged best friend. Virtual fully-immersive live 5k run/3k walk including interactive map\, prizes and trophies\, goodie bag\, and peer-to-peer fundraising! $25 per person. Registration NOW OPEN! Visit www.ucspca.org to sign up!
X-ALT-DESC;FMTTYPE=text/html:<span style="font-family:monospace\; font-size:12px">The Ulster County SPCA&rsquo\;s annual Doggie Dash is a 5k run/ 3k walk with your four-legged best friend. Virtual fully-immersive live 5k run/3k walk including interactive map\, prizes and trophies\, goodie bag\, and peer-to-peer fundraising! $25 per person. Registration NOW OPEN! Visit&nbsp\;</span><a href="http://www.ucspca.org/" rel="noreferrer" style="color: rgb(1\, 134\, 186)\; font-family: monospace\; font-size: 12px\;" target="_blank">www.ucspca.org</a><span style="font-family:monospace\; font-size:12px">&nbsp\;to sign up!</span>
LOCATION:This is a virtual event\, based wherever you are! With live updates on the JustMOVE mobile app.
UID:e.2300.8823
SEQUENCE:3
DTSTAMP:20260419T161112Z
URL:http://business.ulsterchamber.org/events/details/spca-doggie-dash-2020-8823
END:VEVENT

END:VCALENDAR
