BEGIN:VCALENDAR
VERSION:2.0
PRODID:-//ChamberMaster//Event Calendar 2.0//EN
METHOD:PUBLISH
X-PUBLISHED-TTL:P3D
REFRESH-INTERVAL:P3D
CALSCALE:GREGORIAN
BEGIN:VEVENT
DTSTART:20201018T180000Z
DTEND:20201018T210000Z
X-MICROSOFT-CDO-ALLDAYEVENT:FALSE
SUMMARY:SPCA: Barktober Fest
DESCRIPTION:The Ulster County SPCA is hosting Barktoberfest\, a celebration of fall\, beer\, and dogs! Hosted at Keegan Ales in Kingston on October 18th\, 2020\, 2-5pm.\n\n\n\nThis limited in-person event includes live music\, made-to-order wood fired pizza and beer\, a bone bar for dogs\, Halloween photos\, raffle and more! **Tickets limited to 45 to ensure social distancing.** \n\n \n\nTicket includes all-you-can-eat made-to-order wood fired pizza and one (1) drink (beer\, wine or soda)\; more drinks available for additional purchase. Halloween pet photos are $5 per photo.
X-ALT-DESC;FMTTYPE=text/html:The Ulster County SPCA is hosting Barktoberfest\, a celebration of fall\, beer\, and dogs!&nbsp\;Hosted at Keegan Ales in Kingston on October 18th\, 2020\, 2-5pm.<br />\n<br />\nThis limited in-person event includes live music\, made-to-order wood fired pizza and beer\, a bone bar for dogs\, Halloween photos\, raffle and more! **Tickets limited to 45 to ensure social distancing.**&nbsp\;<br />\n&nbsp\;<br />\nTicket includes all-you-can-eat made-to-order wood fired pizza and one (1) drink (beer\, wine or soda)\; more drinks available for additional purchase. Halloween pet photos are $5 per photo.
LOCATION:Keegan Ales
UID:e.2300.9276
SEQUENCE:3
DTSTAMP:20260420T075130Z
URL:http://business.ulsterchamber.org/events/details/spca-barktober-fest-9276
END:VEVENT

END:VCALENDAR
