BEGIN:VCALENDAR
VERSION:2.0
PRODID:-//ChamberMaster//Event Calendar 2.0//EN
METHOD:PUBLISH
X-PUBLISHED-TTL:P3D
REFRESH-INTERVAL:P3D
CALSCALE:GREGORIAN
BEGIN:VEVENT
DTSTART:20260425T140000Z
DTEND:20260425T190000Z
X-MICROSOFT-CDO-ALLDAYEVENT:FALSE
SUMMARY:Rebuilding Together Hudson Valley: National Rebuilding Day
DESCRIPTION:Rebuilding Together Hudson Valley (RTHV) will join Rebuilding Together affiliates nationwide\, bringing together thousands of community volunteers\, to provide critical home repairs and modifications for income-qualified homeowners in need.\n\n\n\nOn National Rebuilding Day. April 25\, 2026\, three local Mid-Hudson Valley homeowners in the Town of Clinton\, Pleasant Valley and Plattekill will receive home repairs and/or accessibility modifications at no cost to them with the support of approximately 60 volunteers from local organizations and businesses\, and the generous donation of in-kind materials and services from local businesses.\n\n\n\nMedia and Elected officials interested in attending should contact 845-454-7310 ext. 3.
X-ALT-DESC;FMTTYPE=text/html:Rebuilding Together Hudson Valley (RTHV) will join Rebuilding Together affiliates nationwide\, bringing together thousands of community volunteers\, to provide critical home repairs and modifications for income-qualified homeowners in need.<br />\n<br />\nOn National Rebuilding Day. April 25\, 2026\, three local Mid-Hudson Valley homeowners in the Town of Clinton\, Pleasant Valley and Plattekill will receive home repairs and/or accessibility modifications at no cost to them with the support of approximately 60 volunteers from local organizations and businesses\, and the generous donation of in-kind materials and services from local businesses.<br />\n<br />\nMedia and Elected officials interested in attending should contact 845-454-7310 ext. 3.
LOCATION:Town of Plattekill\, and the towns of Clinton and Pleasant Valley
UID:e.2300.11249
SEQUENCE:3
DTSTAMP:20260420T192654Z
URL:http://business.ulsterchamber.org/events/details/rebuilding-together-hudson-valley-national-rebuilding-day-11249
END:VEVENT

END:VCALENDAR
