BEGIN:VCALENDAR
VERSION:2.0
PRODID:-//ChamberMaster//Event Calendar 2.0//EN
METHOD:PUBLISH
X-PUBLISHED-TTL:P3D
REFRESH-INTERVAL:P3D
CALSCALE:GREGORIAN
BEGIN:VEVENT
DTSTART:20251008T210000Z
DTEND:20251008T230000Z
X-MICROSOFT-CDO-ALLDAYEVENT:FALSE
SUMMARY:Networking Mixer at River Radiology
DESCRIPTION:Join us on Wednesday\, October 8\, 2025\, from 5:00 7:00  pm for a Chamber Networking Mixer hosted by River Radiology in Midtown Kingston.\n\n\n\nThis Mixer will primarily take place next door in the beautifully restored Fuller Building\, but first\, guests will enter the River Radiology facility for a guided tour. \n\n\n\nRiver Radiology provides the highest quality diagnostic imaging and patient care in the Hudson Valley. They are committed to delivering accurate and timely exams/reports. Striving to improve their service and growth through continuing education\, training\, and careful evaluation of the latest technology.\n\n\n\nEnjoy complimentary refreshments\, explore the venue\, and connect with fellow Chamber Members in a relaxed and welcoming atmosphere.\n\n\n\nChamber Mixers are a great way to network and promote your business. Be sure to bring plenty of business cards. There is no charge for Chamber Members and Prospective Members to attend\, but reservations are required. Mixers are open to Chamber Members 21 years of age and older.\n\n \n\nProspective Members interested in attending must contact Jess Davis Jess@UlsterChamber.org or (845) 338-5100 x4.\n\n\n\n*Reservation/Cancellation Policy:\n\n*To provide an accurate attendance count reservations must be made in advance.\n\n*Cancellations will be accepted up until 24 hours prior to the event.
X-ALT-DESC;FMTTYPE=text/html:Join us on <strong>Wednesday\, October 8\, 2025</strong>\, from <strong>5:00&ndash\;7:00&#8203\; pm</strong> for a Chamber Networking Mixer hosted by <strong>River Radiology</strong> in Midtown Kingston.<br />\n<br />\nThis Mixer will primarily take place next door in the beautifully restored Fuller Building\, but first\, guests will enter the River Radiology facility for a guided tour.&nbsp\;<br />\n<br />\nRiver Radiology provides the highest quality diagnostic imaging and patient care in the Hudson Valley. They are committed to delivering accurate and timely exams/reports. Striving to improve their service and growth through continuing education\, training\, and careful evaluation of the latest technology.<br />\n<br />\nEnjoy complimentary refreshments\, explore the venue\, and connect with fellow Chamber Members in a relaxed and welcoming atmosphere.<br />\n<br />\nChamber Mixers are a great way to network and promote your business. Be sure to bring plenty of business cards. There is no charge for Chamber Members and Prospective Members to attend\, but reservations are required. Mixers are open to Chamber Members 21 years of age and older.<br />\n&nbsp\;<br />\nProspective Members interested in attending must contact Jess Davis&nbsp\;<a href="mailto:Jess@UlsterChamber.org" target="_blank">Jess@UlsterChamber.org</a>&nbsp\;or (845) 338-5100 x4.<br />\n<br />\n*Reservation/Cancellation Policy:<br />\n*To provide an accurate attendance count reservations must be made in advance.<br />\n*Cancellations will be accepted up until 24 hours prior to the event.
LOCATION:
UID:e.2300.11090
SEQUENCE:3
DTSTAMP:20260425T013755Z
URL:http://business.ulsterchamber.org/events/details/networking-mixer-at-river-radiology-11090
END:VEVENT

END:VCALENDAR
