BEGIN:VCALENDAR
VERSION:2.0
PRODID:-//ChamberMaster//Event Calendar 2.0//EN
METHOD:PUBLISH
X-PUBLISHED-TTL:P3D
REFRESH-INTERVAL:P3D
CALSCALE:GREGORIAN
BEGIN:VEVENT
DTSTART:20230418T210000Z
DTEND:20230418T230000Z
X-MICROSOFT-CDO-ALLDAYEVENT:FALSE
SUMMARY:Networking Mixer at Cornell Creative Arts Center
DESCRIPTION:Please join us on April 18\, 2023 for a Networking Mixer at Cornell Creative Arts Center in midtown Kingston. Come take a tour and network with fellow Chamber Members while enjoying complimentary refreshments provided by the Blackboard Bistro\, West Kill Supply\, Boulevard Wine and Spirits\, and JK's Wine & Liquor.\nThe Cornell Creative Arts Center\, a subsidiary of The Arc Mid-Hudson\, is a vibrant\, inclusive\, community-based\, art center that provides the community countless opportunities to create\, engage in\, share\, and enjoy the arts.\n\n\n\nCornell Creative Arts Center offers programs and classes in which every person can incorporate the creative arts into their daily lives. By providing a welcoming space that includes a ceramic studio\, dance/movement studio\, public gallery space\, painting/drawing/mixed media studio\, several private artist studios/offices\, a classroom for music/creative writing\, and a digital arts-media studio\, Cornell Creative Arts Center is the perfect environment to learn and grow your artistic talents.\n\nThe Cornell Creative Arts Center is located at 129 Cornell Street in Kingston\, New York\, and is open every day. Please call 845-768-5080 for hours of operation.\n\nFor more information regarding Cornell Creative Arts Center\, please visit www.cornellcreativeartscenter.com\n\nFor more information regarding The Arc Mid-Hudson\, please visit www.ArcMH.org\nChamber Mixers are a great way to network and promote your business. Be sure to bring plenty of business cards. There is no charge for Chamber Members and Prospective Members to attend but reservations are required. Mixers are open to Chamber Members 21 years of age and older.\n\n \n\nProspective Members interested in attending must contact Jess Davis Jess@UlsterChamber.org or (845) 338-5100 x4.\n\n\n\n*Reservation/Cancellation Policy:\n\n*To provide an accurate attendance count reservations must be made in advance.\n\n*Cancellations will be accepted up until 24 hours prior to the event.\n\n*No shows will be billed at the rate of $15 per person.
X-ALT-DESC;FMTTYPE=text/html:Please join us on April 18\, 2023 for a Networking Mixer at&nbsp\;<strong>Cornell Creative Arts Center</strong> in midtown Kingston. Come take a tour and network with fellow Chamber Members while enjoying complimentary refreshments provided by the <strong>Blackboard Bistro</strong>\, <strong>West Kill Supply</strong>\,&nbsp\;<strong>Boulevard Wine and Spirits</strong>\, and <strong>JK&#39\;s Wine &amp\; Liquor</strong>.\n<p>The Cornell Creative Arts Center\, a subsidiary of The Arc Mid-Hudson\, is a vibrant\, inclusive\, community-based\, art center that provides the community countless opportunities to create\, engage in\, share\, and enjoy the arts.<br />\n<br />\nCornell Creative Arts Center offers programs and classes in which every person can incorporate the creative arts into their daily lives. By providing a welcoming space that includes a ceramic studio\, dance/movement studio\, public gallery space\, painting/drawing/mixed media studio\, several private artist studios/offices\, a classroom for music/creative writing\, and a digital arts-media studio\, Cornell Creative Arts Center is the perfect environment to learn and grow your artistic talents.</p>\n\n<p>The Cornell Creative Arts Center is located at 129 Cornell Street in Kingston\, New York\, and is open every day. Please call 845-768-5080 for hours of operation.</p>\n\n<p>For more information regarding Cornell Creative Arts Center\, please visit <a href="https://linkprotect.cudasvc.com/url?a=http%3a%2f%2fwww.cornellcreativeartscenter.com&amp\;c=E\,1\,9u7VaFpqpNDwrcoq-atebh1cYNs8DBMkhs-rbQ5g-Ag8aGpvgdaXKeYUwSBDGXgW0iT4BjxNKKSrEW2htKoGEYVPdCLQ0HyoS9UcXnJn19GA-_BqhceencZs3wg\,&amp\;typo=1">www.cornellcreativeartscenter.com</a><br />\nFor more information regarding The Arc Mid-Hudson\, please visit <a href="https://linkprotect.cudasvc.com/url?a=http%3a%2f%2fwww.ArcMH.org&amp\;c=E\,1\,7K_DbcvBdsjY0QJmgICTVxlOuvDB5CEJ-j17fb6D0elCHvj_31-hpAEQdg276pA4DAQKGWSkGbgUR67Bg5JfIBEymR45Yn-RXCVIr59e7k33db82&amp\;typo=1">www.ArcMH.org</a></p>\nChamber Mixers are a great way to network and promote your business. Be sure to bring plenty of business cards. There is no charge for Chamber Members and Prospective Members to attend but reservations are required. Mixers are open to Chamber Members 21 years of age and older.<br />\n&nbsp\;<br />\nProspective Members interested in attending must contact Jess Davis <a href="mailto:Jess@UlsterChamber.org" target="_blank">Jess@UlsterChamber.org</a> or (845) 338-5100 x4.<br />\n<br />\n*Reservation/Cancellation Policy:<br />\n*To provide an accurate attendance count reservations must be made in advance.<br />\n*Cancellations will be accepted up until 24 hours prior to the event.<br />\n*No shows will be billed at the rate of $15 per person.
LOCATION:
UID:e.2300.10181
SEQUENCE:3
DTSTAMP:20260424T223642Z
URL:http://business.ulsterchamber.org/events/details/networking-mixer-at-cornell-creative-arts-center-10181
END:VEVENT

END:VCALENDAR
