BEGIN:VCALENDAR
VERSION:2.0
PRODID:-//ChamberMaster//Event Calendar 2.0//EN
METHOD:PUBLISH
X-PUBLISHED-TTL:P3D
REFRESH-INTERVAL:P3D
CALSCALE:GREGORIAN
BEGIN:VEVENT
DTSTART:20250806T130000Z
DTEND:20250806T143000Z
X-MICROSOFT-CDO-ALLDAYEVENT:FALSE
SUMMARY:Business Card Exchange
DESCRIPTION:Join us at the Residence Inn by Marriott at 800 Frank Sottile Blvd. in Kingston on Wednesday\, August 6\, 2025\, from 9:00 am to 10:30 am for the Chamber's Business Card Exchange. Don't miss this great opportunity to meet other Chamber Members and tell them all about your business or organization.\n\n\n\nAll Chamber Members will have two minutes to talk about their business and hand out business cards.\n\n\n\nThere is NO COST to attend but space is limited and reservations are required.\n\n \n\nPlease notify the Chamber Office at 845.338.5100 if you become unable to attend this event.
X-ALT-DESC;FMTTYPE=text/html:<div>Join us at the&nbsp\;<strong>Residence Inn by Marriott</strong>&nbsp\;at <strong>800 Frank Sottile Blvd.</strong>&nbsp\;in <strong>Kingston </strong>on <strong>Wednesday\, August 6\, 2025</strong>\, from <strong>9:00 am to 10:30 am</strong>&nbsp\;for the Chamber&rsquo\;s <strong>Business Card Exchange</strong>. Don&#39\;t miss this great opportunity to meet other Chamber Members and tell them all about your business or organization.<br />\n<br />\nAll Chamber Members will have two minutes to talk about their business and hand out business cards.<br />\n<br />\nThere is NO COST to attend but space is limited and reservations are required.<br />\n&nbsp\;<br />\nPlease notify the Chamber Office at 845.338.5100 if you become unable to attend this event.</div>\n
LOCATION:Residence Inn by Marriott
UID:e.2300.11073
SEQUENCE:3
DTSTAMP:20260425T174220Z
URL:http://business.ulsterchamber.org/events/details/business-card-exchange-11073
END:VEVENT

END:VCALENDAR
